BEGIN:VCALENDAR
VERSION:2.0
PRODID:-//Made Marion Craft - ECPv5.2.0//NONSGML v1.0//EN
CALSCALE:GREGORIAN
METHOD:PUBLISH
X-WR-CALNAME:Made Marion Craft
X-ORIGINAL-URL:http://www.mademarioncraft.co.nz
X-WR-CALDESC:Events for Made Marion Craft
BEGIN:VTIMEZONE
TZID:Pacific/Auckland
BEGIN:STANDARD
TZOFFSETFROM:+1300
TZOFFSETTO:+1200
TZNAME:NZST
DTSTART:20190406T140000
END:STANDARD
BEGIN:DAYLIGHT
TZOFFSETFROM:+1200
TZOFFSETTO:+1300
TZNAME:NZDT
DTSTART:20190928T140000
END:DAYLIGHT
END:VTIMEZONE
BEGIN:VEVENT
DTSTART;TZID=Pacific/Auckland:20190327T180000
DTEND;TZID=Pacific/Auckland:20190327T203000
DTSTAMP:20210121T005333
CREATED:20181220T085454Z
LAST-MODIFIED:20181220T232618Z
UID:7487-1553709600-1553718600@www.mademarioncraft.co.nz
SUMMARY:Intermediate Sewing: The Classic A-line Skirt
DESCRIPTION:Wednesday evenings 13\, 20\, 27 March 6-8:30pm (three sessions) \nCost: $110 (includes a print-out of the pattern) \nTo register for the class\, please email Leimomi with your name\, a contact number and the name of the class you’d like to be in as the subject line. \nLearn to make a classic A-line skirt with a back zip and a curved facing. \n \nIn this class you’ll learn to: \n\nset an invisible back zip\nsew a facing that sit smoothly under the skirt\nwork with bias tape for finishing\nsew a lovely finished hem\n\n \nSewing Level: Low–Intermediate.  Students should be comfortable cutting fabric and using a sewing machine and have some experience with sewing zips and garment-construction.  This is a good follow-up class to Absolute Beginners. \nCost: $110 (includes a print-out of the pattern) \nMaterials: Students must supply their own fabric\, thread & zip: fabric guidelines will be sent upon registration. \nTeacher:  This class is taught by our awesome sewing expert Leimomi Oakes. \nTo register for the class\, please email Leimomi with your name\, a contact number and the name of the class you’d like to be in as the subject line. \nLocation: this class will be held at Made Marion’s new location at 166 Cuba St – between Ghuznee and Vivian Sts\, beside Olive Café
URL:http://www.mademarioncraft.co.nz/class/intermediate-sewing-the-classic-a-line-skirt-2/2019-03-27/
LOCATION:Made Marion Craft\, 166 Cuba St\, Wellington\, 6011\, New Zealand
CATEGORIES:Class,Dreamstress School of Vintage Sewing,Sewing Classes
ATTACH;FMTTYPE=image/jpeg:http://www.mademarioncraft.co.nz/wp-content/uploads/2017/11/A-line-skirt-class2.jpg
GEO:-41.2955602;174.779811
X-APPLE-STRUCTURED-LOCATION;VALUE=URI;X-ADDRESS=Made Marion Craft 166 Cuba St Wellington 6011 New Zealand;X-APPLE-RADIUS=500;X-TITLE=166 Cuba St:geo:174.779811,-41.2955602
END:VEVENT
END:VCALENDAR